BEGIN:VCALENDAR
VERSION:2.0
PRODID:-// - ECPv6.15.14//NONSGML v1.0//EN
CALSCALE:GREGORIAN
METHOD:PUBLISH
X-ORIGINAL-URL:https://planoletip.com
X-WR-CALDESC:Events for 
REFRESH-INTERVAL;VALUE=DURATION:PT1H
X-Robots-Tag:noindex
X-PUBLISHED-TTL:PT1H
BEGIN:VTIMEZONE
TZID:UTC
BEGIN:STANDARD
TZOFFSETFROM:+0000
TZOFFSETTO:+0000
TZNAME:UTC
DTSTART:20210101T000000
END:STANDARD
END:VTIMEZONE
BEGIN:VEVENT
DTSTART;TZID=UTC:20220330T183000
DTEND;TZID=UTC:20220330T200000
DTSTAMP:20260422T163234
CREATED:20220307T171437Z
LAST-MODIFIED:20220307T171437Z
UID:1280-1648665000-1648670400@planoletip.com
SUMMARY:Quarterly Social
DESCRIPTION:Come Join us at Top Golf in The Colony
URL:https://planoletip.com/event/quarterly-social/
LOCATION:3760 Blair Oaks Dr\, The Colony\, TX 75056\, 3760 Blair Oaks Dr\,\, The Colony\,\, TX\, 75056\, United States
END:VEVENT
BEGIN:VEVENT
DTSTART;TZID=UTC:20220323T113000
DTEND;TZID=UTC:20220323T130000
DTSTAMP:20260422T163234
CREATED:20220307T172054Z
LAST-MODIFIED:20220307T172307Z
UID:1286-1648035000-1648040400@planoletip.com
SUMMARY:Weekly Meeting
DESCRIPTION:Jenna Sturgill of Aflac will be presenting on supplemental insurance \nRichard Campbell will be showboating \nJon Poteet will be greeting
URL:https://planoletip.com/event/weekly-meeting-4/
LOCATION:Blue Mesa Grille\, 8200 Dallas Pkwy\,\, Plano\,\, TX\, 75024
ATTACH;FMTTYPE=image/jpeg:https://planoletip.com/wp-content/uploads/2021/08/235381566_241112054534587_3227198986701976195_n.jpg
END:VEVENT
BEGIN:VEVENT
DTSTART;TZID=UTC:20220316T113000
DTEND;TZID=UTC:20220316T130000
DTSTAMP:20260422T163234
CREATED:20220307T171738Z
LAST-MODIFIED:20220307T172413Z
UID:1284-1647430200-1647435600@planoletip.com
SUMMARY:Weekly Meeting
DESCRIPTION:Rick Wright will be giving a presentation on Health benefits \nJenna will be showboating \nRichard will be greeting
URL:https://planoletip.com/event/weekly-meeting-3/
LOCATION:Blue Mesa Grille\, 8200 Dallas Pkwy\,\, Plano\,\, TX\, 75024
ATTACH;FMTTYPE=image/jpeg:https://planoletip.com/wp-content/uploads/2021/08/11075022_10206379207941411_4656452915882574489_n.jpg
END:VEVENT
BEGIN:VEVENT
DTSTART;TZID=UTC:20220309T113000
DTEND;TZID=UTC:20220309T130000
DTSTAMP:20260422T163234
CREATED:20220228T222049Z
LAST-MODIFIED:20220228T222143Z
UID:1277-1646825400-1646830800@planoletip.com
SUMMARY:Weekly Meeting
DESCRIPTION:Speaker: Don Brock\nDon will be giving us a talk on Financial investments
URL:https://planoletip.com/event/weekly-meeting-2/
LOCATION:Blue Mesa Grille\, 8200 Dallas Pkwy\,\, Plano\,\, TX\, 75024
ATTACH;FMTTYPE=image/jpeg:https://planoletip.com/wp-content/uploads/2022/02/Letip-Plano-Meet-In-person.jpg
END:VEVENT
BEGIN:VEVENT
DTSTART;TZID=UTC:20220302T113000
DTEND;TZID=UTC:20220302T133000
DTSTAMP:20260422T163234
CREATED:20220228T211459Z
LAST-MODIFIED:20220228T212915Z
UID:1266-1646220600-1646227800@planoletip.com
SUMMARY:Weekly Meeting
DESCRIPTION:Speaker: George Simons\nThis week George will be showing us some of his past projects.
URL:https://planoletip.com/event/weekly-meeting/
LOCATION:Blue Mesa Grille\, 8200 Dallas Pkwy\,\, Plano\,\, TX\, 75024
ATTACH;FMTTYPE=image/jpeg:https://planoletip.com/wp-content/uploads/2022/02/20190522_115944-scaled.jpg
END:VEVENT
END:VCALENDAR